BEGIN:VCALENDAR
VERSION:2.0
PRODID:-//Plone.org//NONSGML plone.app.event//EN
X-WR-TIMEZONE:US/Eastern
BEGIN:VEVENT
SUMMARY:Spring Story Time
DTSTART;TZID=US/Eastern:20260421T100000
DTEND;TZID=US/Eastern:20260421T110000
DTSTAMP:20260421T091801Z
UID:a5b8e100f79347928419d8beb6458f91@saas_stack_varnish:6080
RRULE:FREQ=WEEKLY;COUNT=4;BYDAY=TU
CONTACT:Amanda Dage\, 248-851-2254\, adage@franklin.lib.mi.us
CREATED:20260317T143317Z
DESCRIPTION:Join Miss Amanda for stories and more!
LAST-MODIFIED:20260317T151601Z
LOCATION:Franklin Public Library Reading Garden
URL:https://www.franklin.lib.mi.us/programs-events/events/spring-story-tim
 e-4
END:VEVENT
BEGIN:VEVENT
SUMMARY:Spring Garage Makeover
DTSTART;TZID=US/Eastern:20260421T183000
DTEND;TZID=US/Eastern:20260421T193000
DTSTAMP:20260421T091801Z
UID:c755a7e60f6a4645a53e42fd9186aa2f@saas_stack_varnish:6080
CONTACT:Florence\, 248-851-2254\, frouquet@franklin.lib.mi.us
CREATED:20260317T205310Z
DESCRIPTION:Spring to action and clean!
LAST-MODIFIED:20260317T205322Z
LOCATION:Franklin Public Library
URL:https://www.franklin.lib.mi.us/programs-events/events/spring-garage-ma
 keover
END:VEVENT
BEGIN:VTIMEZONE
TZID:US/Eastern
X-LIC-LOCATION:US/Eastern
BEGIN:DAYLIGHT
DTSTART:20260308T030000
TZNAME:EDT
TZOFFSETFROM:-0500
TZOFFSETTO:-0400
END:DAYLIGHT
END:VTIMEZONE
END:VCALENDAR
