BEGIN:VCALENDAR
VERSION:2.0
PRODID:-//Plone.org//NONSGML plone.app.event//EN
X-WR-TIMEZONE:US/Eastern
BEGIN:VEVENT
SUMMARY:Plant & Seed Swap
DTSTART;TZID=US/Eastern:20260515T143000
DTEND;TZID=US/Eastern:20260515T173000
DTSTAMP:20260423T145126Z
UID:091562f9021e4eeb8b792c3fc844b7e8@saas_stack_varnish:6080
CONTACT:Florence\, 248-851-2254\, frouquet@franklin.lib.mi.us
CREATED:20260422T183109Z
DESCRIPTION:In partnership with Franklin Garden Club
LAST-MODIFIED:20260422T183437Z
LOCATION:Franklin Public Library Reading Garden
URL:https://www.franklin.lib.mi.us/plant-seed-swap
END:VEVENT
BEGIN:VTIMEZONE
TZID:US/Eastern
X-LIC-LOCATION:US/Eastern
BEGIN:DAYLIGHT
DTSTART:20260308T030000
TZNAME:EDT
TZOFFSETFROM:-0500
TZOFFSETTO:-0400
END:DAYLIGHT
END:VTIMEZONE
END:VCALENDAR
