BEGIN:VCALENDAR
VERSION:2.0
PRODID:-//Plone.org//NONSGML plone.app.event//EN
X-WR-TIMEZONE:US/Eastern
BEGIN:VEVENT
SUMMARY:Biography Book Group - From Scratch by Tembi Locke
DTSTART;TZID=US/Eastern:20221116T180000
DTEND;TZID=US/Eastern:20221116T200000
DTSTAMP:20260420T035034Z
UID:cdc0eac258bd4d3090bd2f9e7689efea@saas_stack_varnish:6080
CONTACT:Florence\, 248-851-2254\, frouquet@franklin.lib.mi.us
CREATED:20220914T204722Z
DESCRIPTION:Let's gather and talk about the book 'From Scratch'.
LAST-MODIFIED:20221017T153429Z
LOCATION:Franklin Public Library
URL:https://www.franklin.lib.mi.us/programs-events/events/biography-book-g
 roup-from-scratch-by-tembi-locke
END:VEVENT
BEGIN:VTIMEZONE
TZID:US/Eastern
X-LIC-LOCATION:US/Eastern
BEGIN:STANDARD
DTSTART:20221106T010000
TZNAME:EST
TZOFFSETFROM:-0400
TZOFFSETTO:-0500
END:STANDARD
END:VTIMEZONE
END:VCALENDAR
