BEGIN:VCALENDAR
VERSION:2.0
PRODID:-//Plone.org//NONSGML plone.app.event//EN
X-WR-TIMEZONE:US/Eastern
BEGIN:VEVENT
SUMMARY:Cotton Candy Colors Kids Summer Reading Wrap Up
DTSTART;TZID=US/Eastern:20250805T183000
DTEND;TZID=US/Eastern:20250805T193000
DTSTAMP:20260421T145259Z
UID:7d2bb700670a453baab27c0c7dc5c82d@saas_stack_varnish:6080
CONTACT:Amanda Dage\, 248-851-2254\, adage@franklin.lib.mi.us
CREATED:20250520T191817Z
DESCRIPTION:Learn the science of cotton candy!
LAST-MODIFIED:20250703T195641Z
LOCATION:Franklin Public Library Reading Garden
URL:https://www.franklin.lib.mi.us/programs-events/events/cotton-candy-col
 ors-kids-summer-reading-wrap-up
END:VEVENT
BEGIN:VTIMEZONE
TZID:US/Eastern
X-LIC-LOCATION:US/Eastern
BEGIN:DAYLIGHT
DTSTART:20250309T030000
TZNAME:EDT
TZOFFSETFROM:-0500
TZOFFSETTO:-0400
END:DAYLIGHT
END:VTIMEZONE
END:VCALENDAR
