BEGIN:VCALENDAR
VERSION:2.0
PRODID:-//Plone.org//NONSGML plone.app.event//EN
X-WR-TIMEZONE:US/Eastern
BEGIN:VEVENT
SUMMARY:Virtual Summer Reading for Kids 3-5 grade - Register here
DTSTART;VALUE=DATE:20200615
DTEND;VALUE=DATE:20200804
DTSTAMP:20260421T000537Z
UID:17c505ba43f247d887a151e73b2b31d7@saas_stack_varnish:6080
RRULE:FREQ=WEEKLY;UNTIL=20200727T000000;BYDAY=MO,TU,WE,TH,FR
CONTACT:Teresa Natzke\, 248-851-2254\, tnatzke@franklin.lib.mi.us
CREATED:20200608T202024Z
LAST-MODIFIED:20200614T211724Z
LOCATION:Franklin
URL:https://www.franklin.lib.mi.us/programs-events/events/virtual-summer-r
 eading-for-kids-3-5-gr-register-here
END:VEVENT
END:VCALENDAR
