BEGIN:VCALENDAR
VERSION:2.0
PRODID:-//Plone.org//NONSGML plone.app.event//EN
X-WR-TIMEZONE:US/Eastern
BEGIN:VEVENT
SUMMARY:Worry Dolls Crafting - Adults & Teens
DTSTART;TZID=US/Eastern:20240924T180000
DTEND;TZID=US/Eastern:20240924T190000
DTSTAMP:20260423T143030Z
UID:f23d84800af342de8645deed76dcce72@saas_stack_varnish:6080
CONTACT:Florence\, 248-851-2254\, frouquet@franklin.lib.mi.us
CREATED:20240814T201815Z
DESCRIPTION:Learn how to make worry dolls.
LAST-MODIFIED:20240819T151333Z
LOCATION:Franklin Public Library
URL:https://www.franklin.lib.mi.us/programs-events/events/worry-dolls-craf
 ting-adults-teens
END:VEVENT
BEGIN:VTIMEZONE
TZID:US/Eastern
X-LIC-LOCATION:US/Eastern
BEGIN:DAYLIGHT
DTSTART:20240310T030000
TZNAME:EDT
TZOFFSETFROM:-0500
TZOFFSETTO:-0400
END:DAYLIGHT
END:VTIMEZONE
END:VCALENDAR
